Workbook
Name _3.1_Purchased_goods_and_services: Database!$Z$2:$Z$112
Name _3.10_Proessing_of_sold_products: Database!$AI$2:$AI$7
Name _3.11_Use_of_sold_products: Database!$AJ$2:$AJ$6
Name _3.12_End_of_life_treatment: Database!$AK$2:$AK$7
Name _3.13_Downstream_leased_assets: Database!$AL$2:$AL$7
Name _3.14_Franchises: Database!$AM$2:$AM$6
Name _3.15_Investments: Database!$AN$2:$AN$6
Name _3.2_Capital_goods: Database!$AA$2:$AA$8
Name _3.3_Fuel_and_energy_related_activities: Database!$AB$2:$AB$22
Name _3.4_Upstream_transportation_and_distribution: Database!$AC$2:$AC$9
Name _3.5_Waste_generated_in_operations: Database!$AD$2:$AD$34
Name _3.6_Business_travel: Database!$AE$2:$AE$10
Name _3.7_Employee_commuting: Database!$AF$2:$AF$10
Name _3.8_Upstream_leased_assets: Database!$AG$2:$AG$3
Name _3.9_Downstream_transportation_and_distribution: Database!$AH$2:$AH$8
Name Agriculture_and_biological_processes: Database!$Q$2:$Q$21
Name Agriculture_and_biological_processes: #REF!
Name Brennstoffe_und_Prozesse: Database!$R$2:$R$84
Name Brennstoffe_und_Prozesse: #REF!
Name Cooling: Database!$Y$2:$Y$8
Name Employee_commuting: Database!$X$2:$X$8
Name Employee_commuting: #REF!
Name Fugitive_emissions: Database!$U$2:$U$118
Name Heat: Database!$W$2:$W$3
Name Mobile_combustion: Database!$R$2:$R$43
Name Oberkategorie: Database!$O$2:$O$12
Name Oberkategorie: #REF!
Name Process_emissions: Database!$T$2:$T$8
Name Purchased_electricity: Database!$V$2:$V$13
Name Purchased_energy: Database!$W$2:$W$18
Name Purchased_energy: #REF!
Name Purchased_goods_and_materials: Database!$T$2:$T$33
Name Purchased_goods_and_materials: #REF!
Name Scope_1: Database!$N$2:$N$5
Name Scope_2: Database!$O$2:$O$5
Name Scope_3: Database!$P$2:$P$16
Name Services: Database!$S$2:$S$40
Name Services: #REF!
Name Stationary_combustion: Database!$S$2:$S$83
Name Steam: Database!$X$2
Name Transportation_and_logistics: Database!$U$2:$U$13
Name Transportation_and_logistics: #REF!
Name Waste_and_recycling: Database!$V$2:$V$31
Name Waste_and_recycling: #REF!

Sheet Introduction
B1: GHG accounting tool
B2: Simple and transparent CO2e calculation In accordance with GHG Protocol Baseline for climate strategy
B6: How the tool works:
B25: Sheet Overview
B27: Data Base | C27: Overview of all emission factors, including source and date, as well as responsible for calculations in the background
B28: Input Scope 1 | C28: Here you enter data that comes directly from sources within your company and is under your control
B29: Input Scope 2 | C29: Here you can enter data on greenhouse gas emissions resulting from the purchase of energy
B30: Input Scope 3 | C30: Here, you enter data on greenhouse gas emissions generated along the upstream and downstream value chain
B31: Front End | C31: Overview of all emission sources according to the GHG Protocol, breakdown of individual scopes, and a dynamic hot spot analysis of emission drivers

Sheet Input Scope 1
B1: ID | C1: category | D1: subcategory | E1: unit | F1: value | G1: Emission in t CO2e
B2: 1 | C2: Mobile_combustion | D2: Aviation spirit | E2: =IFERROR(VLOOKUP(D2,Database!B:I,4,FALSE),"") -> ton | F2: 2 | G2: =IFERROR(VLOOKUP(D2,Database!B:I,2,FALSE)*F2/1000,"") -> 6.3873896
B3: 2 | C3: Process_emissions | D3: Industrial process furnace and oven manufacturing | E3: =IFERROR(VLOOKUP(D3,Database!B:I,4,FALSE),"") -> € | F3: 15000 | G3: =IFERROR(VLOOKUP(D3,Database!B:I,2,FALSE)*F3/1000,"") -> 4.305062
B4: 3 | C4: Mobile_combustion | D4: Biodiesel HVO | E4: =IFERROR(VLOOKUP(D4,Database!B:I,4,FALSE),"") -> kg | F4: 55000 | G4: =IFERROR(VLOOKUP(D4,Database!B:I,2,FALSE)*F4/1000,"") -> 2.5091
B5: 4 | C5: Fugitive_emissions | D5: Nitrous oxide | E5: =IFERROR(VLOOKUP(D5,Database!B:I,4,FALSE),"") -> kg | F5: 10 | G5: =IFERROR(VLOOKUP(D5,Database!B:I,2,FALSE)*F5/1000,"") -> 2.65
C6: Stationary_combustion | D6: Coal (domestic) | E6: =IFERROR(VLOOKUP(D6,Database!B:I,4,FALSE),"") -> ton | F6: 1 | G6: =IFERROR(VLOOKUP(D6,Database!B:I,2,FALSE)*F6/1000,"") -> 2.9049523
E7: =IFERROR(VLOOKUP(D7,Database!B:I,4,FALSE),"") | G7: =IFERROR(VLOOKUP(D7,Database!B:I,2,FALSE)*F7/1000,"")
E8: =IFERROR(VLOOKUP(D8,Database!B:I,4,FALSE),"") | G8: =IFERROR(VLOOKUP(D8,Database!B:I,2,FALSE)*F8/1000,"")
E9: =IFERROR(VLOOKUP(D9,Database!B:I,4,FALSE),"") | G9: =IFERROR(VLOOKUP(D9,Database!B:I,2,FALSE)*F9/1000,"")
E10: =IFERROR(VLOOKUP(D10,Database!B:I,4,FALSE),"") | G10: =IFERROR(VLOOKUP(D10,Database!B:I,2,FALSE)*F10/1000,"")
E11: =IFERROR(VLOOKUP(D11,Database!B:I,4,FALSE),"") | G11: =IFERROR(VLOOKUP(D11,Database!B:I,2,FALSE)*F11/1000,"")
E12: =IFERROR(VLOOKUP(D12,Database!B:I,4,FALSE),"") | G12: =IFERROR(VLOOKUP(D12,Database!B:I,2,FALSE)*F12/1000,"")
E13: =IFERROR(VLOOKUP(D13,Database!B:I,4,FALSE),"") | G13: =IFERROR(VLOOKUP(D13,Database!B:I,2,FALSE)*F13/1000,"")
E14: =IFERROR(VLOOKUP(D14,Database!B:I,4,FALSE),"") | G14: =IFERROR(VLOOKUP(D14,Database!B:I,2,FALSE)*F14/1000,"")
E15: =IFERROR(VLOOKUP(D15,Database!B:I,4,FALSE),"") | G15: =IFERROR(VLOOKUP(D15,Database!B:I,2,FALSE)*F15/1000,"")
E16: =IFERROR(VLOOKUP(D16,Database!B:I,4,FALSE),"") | G16: =IFERROR(VLOOKUP(D16,Database!B:I,2,FALSE)*F16/1000,"")
E17: =IFERROR(VLOOKUP(D17,Database!B:I,4,FALSE),"") | G17: =IFERROR(VLOOKUP(D17,Database!B:I,2,FALSE)*F17/1000,"")
E18: =IFERROR(VLOOKUP(D18,Database!B:I,4,FALSE),"") | G18: =IFERROR(VLOOKUP(D18,Database!B:I,2,FALSE)*F18/1000,"")
... E5000: =IFERROR(VLOOKUP(D5000,Database!B:I,4,FALSE),"") | G5000: =IFERROR(VLOOKUP(D5000,Database!B:I,2,FALSE)*F5000/1000,"")

Sheet Input Scope 2
B1: ID | C1: category | D1: subcategory | E1: unit | F1: value | G1: Emission in t CO2e
B2: a | C2: Purchased_electricity | D2: Electricity by coal | E2: =IFERROR(VLOOKUP(D2,Database!B:I,4,FALSE),"") -> € | F2: 1000 | G2: =IFERROR(VLOOKUP(D2,Database!B:I,2,FALSE)*F2/1000,"") -> 5.5930919
B3: b | C3: Heat | D3: Steam and hot water supply services | E3: =IFERROR(VLOOKUP(D3,Database!B:I,4,FALSE),"") -> € | F3: 1000 | G3: =IFERROR(VLOOKUP(D3,Database!B:I,2,FALSE)*F3/1000,"") -> 15.527969
B4: c | C4: Steam | D4: Steam and hot water supply services | E4: =IFERROR(VLOOKUP(D4,Database!B:I,4,FALSE),"") -> € | F4: 610 | G4: =IFERROR(VLOOKUP(D4,Database!B:I,2,FALSE)*F4/1000,"") -> 9.472061
E5: =IFERROR(VLOOKUP(D5,Database!B:I,4,FALSE),"") | G5: =IFERROR(VLOOKUP(D5,Database!B:I,2,FALSE)*F5/1000,"")
E6: =IFERROR(VLOOKUP(D6,Database!B:I,4,FALSE),"") | G6: =IFERROR(VLOOKUP(D6,Database!B:I,2,FALSE)*F6/1000,"")
E7: =IFERROR(VLOOKUP(D7,Database!B:I,4,FALSE),"") | G7: =IFERROR(VLOOKUP(D7,Database!B:I,2,FALSE)*F7/1000,"")
E8: =IFERROR(VLOOKUP(D8,Database!B:I,4,FALSE),"") | G8: =IFERROR(VLOOKUP(D8,Database!B:I,2,FALSE)*F8/1000,"")
E9: =IFERROR(VLOOKUP(D9,Database!B:I,4,FALSE),"") | G9: =IFERROR(VLOOKUP(D9,Database!B:I,2,FALSE)*F9/1000,"")
E10: =IFERROR(VLOOKUP(D10,Database!B:I,4,FALSE),"") | G10: =IFERROR(VLOOKUP(D10,Database!B:I,2,FALSE)*F10/1000,"")
E11: =IFERROR(VLOOKUP(D11,Database!B:I,4,FALSE),"") | G11: =IFERROR(VLOOKUP(D11,Database!B:I,2,FALSE)*F11/1000,"")
E12: =IFERROR(VLOOKUP(D12,Database!B:I,4,FALSE),"") | G12: =IFERROR(VLOOKUP(D12,Database!B:I,2,FALSE)*F12/1000,"")
E13: =IFERROR(VLOOKUP(D13,Database!B:I,4,FALSE),"") | G13: =IFERROR(VLOOKUP(D13,Database!B:I,2,FALSE)*F13/1000,"")
E14: =IFERROR(VLOOKUP(D14,Database!B:I,4,FALSE),"") | G14: =IFERROR(VLOOKUP(D14,Database!B:I,2,FALSE)*F14/1000,"")
E15: =IFERROR(VLOOKUP(D15,Database!B:I,4,FALSE),"") | G15: =IFERROR(VLOOKUP(D15,Database!B:I,2,FALSE)*F15/1000,"")
E16: =IFERROR(VLOOKUP(D16,Database!B:I,4,FALSE),"") | G16: =IFERROR(VLOOKUP(D16,Database!B:I,2,FALSE)*F16/1000,"")
... E5000: =IFERROR(VLOOKUP(D5000,Database!B:I,4,FALSE),"") | G5000: =IFERROR(VLOOKUP(D5000,Database!B:I,2,FALSE)*F5000/1000,"")

Sheet Input Scope 3
B1: ID | C1: category | D1: subcategory | E1: unit | F1: value | G1: Emission in t CO2e
C2: _3.2_Capital_goods | D2: Motor vehicles, trailers and semi-trailers | E2: =IFERROR(VLOOKUP(D2,Database!B:I,4,FALSE),"") -> € | F2: 500000 | G2: =IFERROR(VLOOKUP(D2,Database!B:I,2,FALSE)*F2/1000,"") -> 2.1648445
C3: _3.1_Purchased_goods_and_services | D3: Ceramic goods | E3: =IFERROR(VLOOKUP(D3,Database!B:I,4,FALSE),"") -> € | F3: 25000 | G3: =IFERROR(VLOOKUP(D3,Database!B:I,2,FALSE)*F3/1000,"") -> 4.0704563
C4: _3.3_Fuel_and_energy_related_activities | D4: Other Hydrocarbons | E4: =IFERROR(VLOOKUP(D4,Database!B:I,4,FALSE),"") -> € | F4: 45000 | G4: =IFERROR(VLOOKUP(D4,Database!B:I,2,FALSE)*F4/1000,"") -> 1.6480967
C5: _3.4_Upstream_transportation_and_distribution | D5: Air transport services | E5: =IFERROR(VLOOKUP(D5,Database!B:I,4,FALSE),"") -> € | F5: 4500 | G5: =IFERROR(VLOOKUP(D5,Database!B:I,2,FALSE)*F5/1000,"") -> 2.4541174
C6: _3.5_Waste_generated_in_operations | D6: Food waste for treatment: composting and land application | E6: =IFERROR(VLOOKUP(D6,Database!B:I,4,FALSE),"") -> € | F6: 16000 | G6: =IFERROR(VLOOKUP(D6,Database!B:I,2,FALSE)*F6/1000,"") -> 2.6403509
C7: _3.6_Business_travel | D7: Large car | E7: =IFERROR(VLOOKUP(D7,Database!B:I,4,FALSE),"") -> km | F7: 12000 | G7: =IFERROR(VLOOKUP(D7,Database!B:I,2,FALSE)*F7/1000,"") -> 2.52084
E8: =IFERROR(VLOOKUP(D8,Database!B:I,4,FALSE),"") | G8: =IFERROR(VLOOKUP(D8,Database!B:I,2,FALSE)*F8/1000,"")
E9: =IFERROR(VLOOKUP(D9,Database!B:I,4,FALSE),"") | G9: =IFERROR(VLOOKUP(D9,Database!B:I,2,FALSE)*F9/1000,"")
E10: =IFERROR(VLOOKUP(D10,Database!B:I,4,FALSE),"") | G10: =IFERROR(VLOOKUP(D10,Database!B:I,2,FALSE)*F10/1000,"")
E11: =IFERROR(VLOOKUP(D11,Database!B:I,4,FALSE),"") | G11: =IFERROR(VLOOKUP(D11,Database!B:I,2,FALSE)*F11/1000,"")
E12: =IFERROR(VLOOKUP(D12,Database!B:I,4,FALSE),"") | G12: =IFERROR(VLOOKUP(D12,Database!B:I,2,FALSE)*F12/1000,"")
E13: =IFERROR(VLOOKUP(D13,Database!B:I,4,FALSE),"") | G13: =IFERROR(VLOOKUP(D13,Database!B:I,2,FALSE)*F13/1000,"")
E14: =IFERROR(VLOOKUP(D14,Database!B:I,4,FALSE),"") | G14: =IFERROR(VLOOKUP(D14,Database!B:I,2,FALSE)*F14/1000,"")
E15: =IFERROR(VLOOKUP(D15,Database!B:I,4,FALSE),"") | G15: =IFERROR(VLOOKUP(D15,Database!B:I,2,FALSE)*F15/1000,"")
E16: =IFERROR(VLOOKUP(D16,Database!B:I,4,FALSE),"") | G16: =IFERROR(VLOOKUP(D16,Database!B:I,2,FALSE)*F16/1000,"")
E17: =IFERROR(VLOOKUP(D17,Database!B:I,4,FALSE),"") | G17: =IFERROR(VLOOKUP(D17,Database!B:I,2,FALSE)*F17/1000,"")
E18: =IFERROR(VLOOKUP(D18,Database!B:I,4,FALSE),"") | G18: =IFERROR(VLOOKUP(D18,Database!B:I,2,FALSE)*F18/1000,"")
E19: =IFERROR(VLOOKUP(D19,Database!B:I,4,FALSE),"") | G19: =IFERROR(VLOOKUP(D19,Database!B:I,2,FALSE)*F19/1000,"")
... E5000: =IFERROR(VLOOKUP(D5000,Database!B:I,4,FALSE),"") | G5000: =IFERROR(VLOOKUP(D5000,Database!B:I,2,FALSE)*F5000/1000,"")

Sheet Front end
B2: Max Mustermann GmbH
B5: Reporting limit | E5: Jan.-Dec. 2024
B7: Total: | D7: =TEXT(SUM(D8:E10),"0,0") & " t CO2e" -> 64,8 t CO2e | G7: Emission categories explained
B8: Scope 1 | D8: =SUM('Input Scope 1'!G:G) -> 18.756504 | G8: Scope 1 - Direct Emissions: Emissions that originate directly from sources controlled by the company itself
B9: Scope 2 | D9: =SUM('Input Scope 2'!G:G) -> 30.593122 | G9: Scope 2 - Indirect Emissions: Emissions resulting from energy consumption
B10: Scope 3 | D10: =(SUM('Input Scope 3'!G:G)) -> 15.498706 | G10: Scope 3 - Other indirect Emissions: Emissions that occur outside the company but are caused by our business activities
B13: Scope 1 | E13: Scope 2 | H13: Scope 3
B24: Stationary combustion | D24: =Database!AS3 -> 2.9049523 | E24: Purchased Electricity | G24: =Database!AW2 -> 5.5930919 | H24: =Database!BF2 -> Purchased Goods & Services | I24: =Database!BG2 -> 4.0704563
B26: Mobile combustion | D26: =Database!AS2 -> 8.8964896 | E26: Steam | G26: =Database!AW4 -> 9.472061 | H26: =Database!BF3 -> Waste generated in operations | I26: =Database!BG3 -> 2.6403509
B28: Process emissions | D28: =Database!AS4 -> 4.305062 | E28: Cooling | G28: =Database!AW5 -> 0 | H28: =Database!BF4 -> Business travel | I28: =Database!BG4 -> 2.52084
B30: Fugitive emissions | D30: =Database!AS5 -> 2.65 | E30: Heat | G30: =Database!AW3 -> 15.527969 | H30: =Database!BF5 -> Upstream transportation and distribution | I30: =Database!BG5 -> 2.4541174
H32: =Database!BF6 -> Capital Goods | I32: =Database!BG6 -> 2.1648445

Sheet Database
B1: Emission Factor | C1: CO2e | D1: Unit | E1: per | F1: Scope | G1: Subcategory | H1: Country on which the emission factor is based | I1: Source | J1: Website | K1: Year | N1: Subcategory Scope 1 | O1: Subcategory Scope 2 | P1: Subcategory Scope 3 | R1: Mobile_combustion | S1: Stationary_combustion | T1: Process_emissions | U1: Fugitive_emissions | V1: Purchased_electricity | W1: Heat | X1: Steam | Y1: Cooling | Z1: _3.1_Purchased_goods_and_services | AA1: _3.2_Capital_goods | AB1: _3.3_Fuel_and_energy_related_activities | AC1: _3.4_Upstream_transportation_and_distribution | AD1: _3.5_Waste_generated_in_operations | AE1: _3.6_Business_travel | AF1: _3.7_Employee_commuting | AG1: _3.8_Upstream_leased_assets | AH1: _3.9_Downstream_transportation_and_distribution | AI1: _3.10_Proessing_of_sold_products | AJ1: _3.11_Use_of_sold_products | AK1: _3.12_End_of_life_treatment | AL1: _3.13_Downstream_leased_assets | AM1: _3.14_Franchises | AN1: _3.15_Investments | AQ1: Category Scope 1 | AR1: Category Name Scope 1 | AS1: Emission in t CO2e | AU1: Subcategory Scope 2 | AV1: Category Name Scope 2 | AW1: Emission in t CO2e | AY1: Subcategory Scope 3 | AZ1: Category Name Scope 3 | BA1: Emission in t CO2e | BC1: {=_xlfn._xlws.SORT(AZ1:BA16,2,-1,FALSE)} -> Category Name Scope 3 | BD1: Emission in t CO2e | BF1: Category Name Scope 3 | BG1: Emission in t CO2e | BH1: % of total Scope 3 emissions | BJ1: Category Name | BK1: Emission in t CO2e | BM1: {=_xlfn._xlws.SORT(BJ1:BK24,2,-1,FALSE)} -> Category Name | BN1: Emission in t CO2e | BP1: Category Name | BQ1: Emission in t CO2e | BR1: % of total emissions
B2: Additives/Blending Components | C2: 0.32112576 | D2: Kg Co2e | E2: € | F2: Scope 1 & 3 | G2: Stationary_combustion & _3.1_purchased_goods_and_services | H2: Germany | I2: Exiobase | J2: https://zenodo.org/records/5589597 | K2: 2022 | N2: Process_emissions | O2: Steam | P2: _3.1_Purchased_goods_and_services | R2: Aviation Gasoline | S2: Additives/Blending Components | T2: Industrial process furnace and oven manufacturing | U2: Carbon dioxide | V2: Electricity by Geothermal | W2: Steam and hot water supply services | X2: Steam and hot water supply services | Z2: Aluminium and aluminium products | AA2: Machinery and equipment n.e.c. | AB2: Transmission services of electricity | AC2: Railway transportation services | AD2: Food waste for treatment: incineration | AE2: Air transport services | AF2: Small car | AG2: Renting services of machinery and equipment without operator and of personal and household goods | AH2: Railway transportation services | AQ2: Mobile_combustion | AR2: Mobile Combustion | AS2: =SUMIF('Input Scope 1'!C:C,Database!AQ2,'Input Scope 1'!G:G) -> 8.8964896 | AU2: Purchased_electricity | AV2: Purchased Electricity | AW2: =SUMIF('Input Scope 2'!C:C,Database!AU2,'Input Scope 2'!G:G) -> 5.5930919 | AY2: _3.1_Purchased_goods_and_services | AZ2: Purchased Goods & Services | BA2: =SUMIF('Input Scope 3'!C:C,Database!AY2,'Input Scope 3'!G:G) -> 4.0704563 | BC2: Purchased Goods & Services | BD2: 4.0704563 | BF2: {=INDEX(_xlfn._xlws.SORT(Database!BC2:BD16,2,-1,FALSE), _xlfn.SEQUENCE(5), 1)} -> Purchased Goods & Services | BG2: {=INDEX(_xlfn._xlws.SORT(BC2:BD16,2,-1,FALSE), _xlfn.SEQUENCE(5), 2)} -> 4.0704563 | BH2: =BG2/SUM($BD$2:$BD$16) -> 0.29388284 | BJ2: Mobile Combustion | BK2: =SUMIF(AR:AR,BJ2,AS:AS) -> 8.8964896 | BM2: Heat | BN2: 15.527969 | BP2: {=INDEX(_xlfn._xlws.SORT(BM2:BN24,2,-1,FALSE), _xlfn.SEQUENCE(5), 1)} -> Heat | BQ2: {=INDEX(_xlfn._xlws.SORT(BM2:BN24,2,-1,FALSE), _xlfn.SEQUENCE(5), 2)} -> 15.527969 | BR2: =BQ2/SUM(BN:BN) -> 0.2456948
B3: Air transport services | C3: 0.54535942 | D3: Kg Co2e | E3: € | F3: Scope 3 | G3: _3.4_Upstream_transportation_and_distribution & _3.6_Business_travel & _3.9_Downstream_transportation_and_distribution | H3: Germany | I3: Exiobase | J3: https://zenodo.org/records/5589597 | K3: 2022 | N3: Mobile_combustion | O3: Purchased_electricity | P3: _3.2_Capital_goods | R3: Aviation spirit | S3: Anthracite | T3: Fluid power process machinery | U3: Methane | V3: Electricity by biomass and waste | Z3: Aluminium ores and concentrates | AA3: Office machinery and computers | AB3: Distribution and trade services of electricity | AC3: Other land transportation services | AD3: Paper waste for treatment: incineration | AE3: Hotel and restaurant services | AF3: Medium car | AH3: Other land transportation services | AQ3: Stationary_combustion | AR3: Stationary Combustion | AS3: =SUMIF('Input Scope 1'!C:C,Database!AQ3,'Input Scope 1'!G:G) -> 2.9049523 | AU3: Heat | AV3: Heat | AW3: =SUMIF('Input Scope 2'!C:C,Database!AU3,'Input Scope 2'!G:G) -> 15.527969 | AY3: _3.2_Capital_goods | AZ3: Capital Goods | BA3: =SUMIF('Input Scope 3'!C:C,Database!AY3,'Input Scope 3'!G:G) -> 2.1648445 | BC3: Waste generated in operations | BD3: 2.6403509 | BF3: Waste generated in operations | BG3: 2.6403509 | BH3: =BG3/SUM($BD$2:$BD$16) -> 0.19063067 | BJ3: Stationary Combustion | BK3: =SUMIF(AR:AR,BJ3,AS:AS) -> 2.9049523 | BM3: Steam | BN3: 9.472061 | BP3: Steam | BQ3: 9.472061 | BR3: =BQ3/SUM(BN:BN) -> 0.14987383
B4: Aluminium and aluminium products | C4: 0.085457636 | D4: Kg Co2e | E4: € | F4: Scope 3 | G4: _3.1_Purchased_goods_and_services | H4: Germany | I4: Exiobase | J4: https://zenodo.org/records/5589597 | K4: 2022 | N4: Stationary_combustion | O4: Heat | P4: _3.3_Fuel_and_energy_related_activities | R4: Aviation turbine fuel | S4: BKB/Peat Briquettes | T4: Industrial process variable instruments manufacturing | U4: Nitrous oxide | V4: Electricity by coal | Z4: Animal products nec | AA4: Electrical machinery and apparatus n.e.c. | AB4: Distribution services of gaseous fuels through mains | AC4: Transportation services via pipelines | AD4: Plastic waste for treatment: incineration | AE4: Supporting and auxiliary transport services; travel agency services | AF4: Large car | AH4: Transportation services via pipelines | AQ4: Process_emissions | AR4: Process Emissions | AS4: =SUMIF('Input Scope 1'!C:C,Database!AQ4,'Input Scope 1'!G:G) -> 4.305062 | AU4: Steam | AV4: Steam | AW4: =SUMIF('Input Scope 2'!C:C,Database!AU4,'Input Scope 2'!G:G) -> 9.472061 | AY4: _3.3_Fuel-_and_energy_related_activities | AZ4: Fuel- and energy related activities | BA4: =SUMIF('Input Scope 3'!C:C,Database!AY4,'Input Scope 3'!G:G) -> 0 | BC4: Business travel | BD4: 2.52084 | BF4: Business travel | BG4: 2.52084 | BH4: =BG4/SUM($BD$2:$BD$16) -> 0.1820021 | BJ4: Process Emissions | BK4: =SUMIF(AR:AR,BJ4,AS:AS) -> 4.305062 | BM4: Mobile Combustion | BN4: 8.8964896 | BP4: Mobile Combustion | BQ4: 8.8964896 | BR4: =BQ4/SUM(BN:BN) -> 0.14076672
B5: Aluminium ores and concentrates | C5: 0.010192425 | D5: Kg Co2e | E5: € | F5: Scope 3 | G5: _3.1_Purchased_goods_and_services | H5: Germany | I5: Exiobase | J5: https://zenodo.org/records/5589597 | K5: 2022 | N5: Fugitive_emissions | O5: Cooling | P5: _3.4_Upstream_transportation_and_distribution | R5: Avtur (renewable) | S5: Biodiesel HVO | T5: Soybean and other oilseed processing | U5: HFC-23 | V5: Electricity by gas | Z5: Basic iron and steel and of ferro-alloys and first products thereof | AA5: Medical, precision and optical instruments, watches and clocks | AB5: Crude petroleum and services related to crude oil extraction, excluding surveying | AC5: Sea and coastal water transportation services | AD5: Intert/metal waste for treatment: incineration | AE5: Small car | AF5: Average car | AH5: Sea and coastal water transportation services | AQ5: Fugitive_emissions | AR5: Fugitive Emissions | AS5: =SUMIF('Input Scope 1'!C:C,Database!AQ5,'Input Scope 1'!G:G) -> 2.65 | AU5: Cooling | AV5: Cooling | AW5: =SUMIF('Input Scope 2'!C:C,Database!AU5,'Input Scope 2'!G:G) -> 0 | AY5: _3.4_Upstream_transportation_and_distribution | AZ5: Upstream transportation and distribution | BA5: =SUMIF('Input Scope 3'!C:C,Database!AY5,'Input Scope 3'!G:G) -> 2.4541174 | BC5: Upstream transportation and distribution | BD5: 2.4541174 | BF5: Upstream transportation and distribution | BG5: 2.4541174 | BH5: =BG5/SUM($BD$2:$BD$16) -> 0.1771848 | BJ5: Fugitive Emissions | BK5: =SUMIF(AR:AR,BJ5,AS:AS) -> 2.65 | BM5: Purchased Electricity | BN5: 5.5930919 | BP5: Purchased Electricity | BQ5: 5.5930919 | BR5: =BQ5/SUM(BN:BN) -> 0.088497961
B6: Animal products nec | C6: 2.3292075 | D6: Kg Co2e | E6: € | F6: Scope 3 | G6: _3.1_Purchased_goods_and_services | H6: Germany | I6: Exiobase | J6: https://zenodo.org/records/5589597 | K6: 2022 | P6: _3.5_Waste_generated_in_operations | R6: Biodiesel HVO | S6: Biodiesel ME | T6: Poultry processing | U6: HFC-32 | V6: Electricity by hydro | Z6: Beverages | AA6: Motor vehicles, trailers and semi-trailers | AB6: Natural gas and services related to natural gas extraction, excluding surveying | AC6: Inland water transportation services | AD6: Textiles waste for treatment: incineration | AE6: Medium car | AF6: Railway transportation services | AH6: Inland water transportation services | AY6: _3.5_Waste_generated_in_operations | AZ6: Waste generated in operations | BA6: =SUMIF('Input Scope 3'!C:C,Database!AY6,'Input Scope 3'!G:G) -> 2.6403509 | BC6: Capital Goods | BD6: 2.1648445 | BF6: Capital Goods | BG6: 2.1648445 | BH6: =BG6/SUM($BD$2:$BD$16) -> 0.15629959 | BJ6: Purchased Electricity | BK6: =SUMIF(AV:AV,BJ6,AW:AW) -> 5.5930919 | BM6: Process Emissions | BN6: 4.305062 | BP6: Process Emissions | BQ6: 4.305062 | BR6: =BQ6/SUM(BN:BN) -> 0.068117817
B7: Anthracite | C7: 1.60084 | D7: Kg Co2e | E7: € | F7: Scope 1 | G7: Stationary_combustion | H7: Germany | I7: Exiobase | J7: https://zenodo.org/records/5589597 | K7: 2022 | P7: _3.6_Business_travel | R7: Biodiesel ME | S7: Biodiesel ME (from tallow) | T7: Animal (except poultry) slaughtering, rendering, and processing | U7: HFC-41 | V7: Electricity by nuclear | Z7: Bioethanol | AA7: Other transport equipment | AB7: Natural Gas Liquids | AC7: Air transport services | AD7: Wood waste for treatment: incineration | AE7: Large car | AF7: Other land transportation services | AH7: Air transport services | AY7: _3.6_Business_travel | AZ7: Business travel | BA7: =SUMIF('Input Scope 3'!C:C,Database!AY7,'Input Scope 3'!G:G) -> 2.52084 | BC7: Fuel- and energy related activities | BD7: 0 | BJ7: Heat | BK7: =SUMIF(AV:AV,BJ7,AW:AW) -> 15.527969 | BM7: Purchased Goods & Services | BN7: 4.0704563
B8: Ash for treatment, Re-processing of ash into clinker | C8: 0 | D8: Kg Co2e | E8: € | F8: Scope 3 | G8: _3.5_Waste_generated_in_operations | H8: Germany | I8: Exiobase | J8: https://zenodo.org/records/5589597 | K8: 2022 | P8: _3.7_Employee_commuting | R8: Biodiesel ME (from tallow) | S8: Biodiesel ME (from used cooking oil) | T8: Data processing, hosting, and related services | U8: HFC-125 | V8: Electricity by petroleum and other oil derivatives | Z8: Bricks, tiles and construction products, in baked clay | AA8: Furniture; other manufactured goods n.e.c. | AB8: Other Hydrocarbons | AC8: Supporting and auxiliary transport services; travel agency services | AD8: Oil/hazardous waste for treatment: incineration | AE8: Average car | AF8: Homeworking | AH8: Supporting and auxiliary transport services; travel agency services | AY8: _3.7_Employee_commuting | AZ8: Employee commuting | BA8: =SUMIF('Input Scope 3'!C:C,Database!AY8,'Input Scope 3'!G:G) -> 0 | BC8: Employee commuting | BD8: 0 | BJ8: Steam | BK8: =SUMIF(AV:AV,BJ8,AW:AW) -> 9.472061 | BM8: Stationary Combustion | BN8: 2.9049523
B9: Average car | C9: 0.17304 | D9: kg CO2e | E9: km | F9: Scope 3 | G9: _3.6_Business_travel & _3.7_Employee_commuting | H9: United Kingdom | I9: UK GOV | J9: https://www.gov.uk/government/publications/greenhouse-gas-reporting-conversion-factors-2025 | K9: 2025 | P9: _3.8_Upstream_leased_assets | R9: Biodiesel ME (from used cooking oil) | S9: Biodiesels | U9: HFC-134 | V9: Electricity by solar photovoltaic | Z9: Burning oil | AB9: Refinery Feedstocks | AD9: Food waste for treatment: biogasification and land application | AE9: Railway transportation services | AF9: Office Equipment | AY9: _3.8_Upstream_leased_assets | AZ9: Upstream leased assets | BA9: =SUMIF('Input Scope 3'!C:C,Database!AY9,'Input Scope 3'!G:G) -> 0 | BC9: Upstream leased assets | BD9: 0 | BJ9: Cooling | BK9: =SUMIF(AV:AV,BJ9,AW:AW) -> 0 | BM9: Fugitive Emissions | BN9: 2.65
B10: Aviation Gasoline | C10: 0.004986787 | D10: Kg Co2e | E10: € | F10: Scope 1 | G10: Mobile_combustion | H10: Germany | I10: Exiobase | J10: https://zenodo.org/records/5589597 | K10: 2022 | P10: _3.9_Downstream_transportation_and_distribution | R10: Biodiesels | S10: Biogas | U10: HFC-134a | V10: Electricity by solar thermal | Z10: Cattle | AB10: Additives/Blending Components | AD10: Paper waste for treatment: biogasification and land application | AE10: Other land transportation services | AF10: Heating | AY10: _3.9_Downstream_transportation_and_distribution | AZ10: Downstream transportation and distribution | BA10: =SUMIF('Input Scope 3'!C:C,Database!AY10,'Input Scope 3'!G:G) -> 0 | BC10: Downstream transportation and distribution | BD10: 0 | BJ10: Purchased Goods & Services | BK10: =SUMIF(AZ:AZ,BJ10,BA:BA) -> 4.0704563 | BM10: Waste generated in operations | BN10: 2.6403509
B11: Aviation spirit | C11: 3193.6948 | D11: kg CO2e | E11: ton | F11: Scope 1 | G11: Mobile_combustion | H11: United Kingdom | I11: UK GOV | J11: https://www.gov.uk/government/publications/greenhouse-gas-reporting-conversion-factors-2025 | K11: 2025 | P11: _3.10_Processing_of_sold_products | R11: Biogasoline | S11: Biogasoline | U11: HFC-143 | V11: Electricity by tide, wave, ocean | Z11: Cement, lime and plaster | AB11: Electricity by coal | AD11: Sewage sludge for treatment: biogasification and land application | AY11: _3.10_Processing_of_sold_products | AZ11: Processing of sold products | BA11: =SUMIF('Input Scope 3'!C:C,Database!AY11,'Input Scope 3'!G:G) -> 0 | BC11: Processing of sold products | BD11: 0 | BJ11: Capital Goods | BK11: =SUMIF(AZ:AZ,BJ11,BA:BA) -> 2.1648445 | BM11: Business travel | BN11: 2.52084
B12: Aviation turbine fuel | C12: 3178.3652 | D12: kg CO2e | E12: ton | F12: Scope 1 | G12: Mobile_combustion | H12: United Kingdom | I12: UK GOV | J12: https://www.gov.uk/government/publications/greenhouse-gas-reporting-conversion-factors-2025 | K12: 2025 | P12: _3.11_Use_of_sold_products | R12: Biomethane (compressed) | S12: Biomethane (compressed) | U12: HFC-143a | V12: Electricity by wind | Z12: Ceramic goods | AB12: Electricity by gas | AD12: Food waste for treatment: composting and land application | AY12: _3.11_Use_of_sold_products | AZ12: Use of sold products | BA12: =SUMIF('Input Scope 3'!C:C,Database!AY12,'Input Scope 3'!G:G) -> 0 | BC12: Use of sold products | BD12: 0 | BJ12: Fuel- and energy related activities | BK12: =SUMIF(AZ:AZ,BJ12,BA:BA) -> 0 | BM12: Upstream transportation and distribution | BN12: 2.4541174
B13: Avtur (renewable) | C13: 0.03179 | D13: kg CO2e | E13: kg | F13: Scope 1 | G13: Mobile_combustion | H13: United Kingdom | I13: UK GOV | J13: https://www.gov.uk/government/publications/greenhouse-gas-reporting-conversion-factors-2025 | K13: 2025 | P13: _3.12_End-of-life_treatment_of_sold_products | R13: Biomethane (liquified) | S13: Biomethane (liquified) | U13: HFC-152a | V13: Electricity nec | Z13: Cereal grains nec | AB13: Electricity by nuclear | AD13: Paper and wood waste for treatment: composting and land application | AY13: _3.12_End-of-life_treatment_of_sold_products | AZ13: End-of-life treatment of sold products | BA13: =SUMIF('Input Scope 3'!C:C,Database!AY13,'Input Scope 3'!G:G) -> 0 | BC13: End-of-life treatment of sold products | BD13: 0 | BJ13: Upstream transportation and distribution | BK13: =SUMIF(AZ:AZ,BJ13,BA:BA) -> 2.4541174 | BM13: Capital Goods | BN13: 2.1648445
B14: Basic iron and steel and of ferro-alloys and first products thereof | C14: 0.28226923 | D14: Kg Co2e | E14: € | F14: Scope 3 | G14: _3.1_Purchased_goods_and_services | H14: Germany | I14: Exiobase | J14: https://zenodo.org/records/5589597 | K14: 2022 | P14: _3.13_Downstream_leased_assets | R14: Biopropane | S14: Biopropane | U14: HFC-227ea | Z14: Chemical and fertilizer minerals, salt and other mining and quarrying products n.e.c. | AB14: Electricity by hydro | AD14: Food waste for treatment: waste water treatment | AY14: _3.13_Downstream_leased_assets | AZ14: Downstream leased assets | BA14: =SUMIF('Input Scope 3'!C:C,Database!AY14,'Input Scope 3'!G:G) -> 0 | BC14: Downstream leased assets | BD14: 0 | BJ14: Waste generated in operations | BK14: =SUMIF(AZ:AZ,BJ14,BA:BA) -> 2.6403509 | BM14: Cooling | BN14: 0
B15: Beverages | C15: 0.056810577 | D15: Kg Co2e | E15: € | F15: Scope 3 | G15: _3.1_Purchased_goods_and_services | H15: Germany | I15: Exiobase | J15: https://zenodo.org/records/5589597 | K15: 2022 | P15: _3.14_Franchises | R15: Butane | S15: Bitumen | U15: HFC-236fa | Z15: Chemicals nec | AB15: Electricity by wind | AD15: Other waste for treatment: waste water treatment | AY15: _3.14_Franchises | AZ15: Franchises | BA15: =SUMIF('Input Scope 3'!C:C,Database!AY15,'Input Scope 3'!G:G) -> 0 | BC15: Franchises | BD15: 0 | BJ15: Business travel | BK15: =SUMIF(AZ:AZ,BJ15,BA:BA) -> 2.52084 | BM15: Fuel- and energy related activities | BN15: 0
B16: Biodiesel HVO | C16: 0.04562 | D16: kg CO2e | E16: kg | F16: Scope 1 | G16: Mobile_combustion & Stationary_combustion | H16: United Kingdom | I16: UK GOV | J16: https://www.gov.uk/government/publications/greenhouse-gas-reporting-conversion-factors-2025 | K16: 2025 | P16: _3.15_Investments | R16: CNG | S16: Blast Furnace Gas | U16: HFC-245fa | Z16: Coal Tar | AB16: Electricity by petroleum and other oil derivatives | AD16: Food waste for treatment: landfill | AY16: _3.15_Investments | AZ16: Investments | BA16: =SUMIF('Input Scope 3'!C:C,Database!AY16,'Input Scope 3'!G:G) -> 0 | BC16: Investments | BD16: 0 | BJ16: Employee commuting | BK16: =SUMIF(AZ:AZ,BJ16,BA:BA) -> 0 | BM16: Employee commuting | BN16: 0
B17: Biodiesel ME | C17: 0.18822 | D17: kg CO2e | E17: kg | F17: Scope 1 | G17: Mobile_combustion & Stationary_combustion | H17: United Kingdom | I17: UK GOV | J17: https://www.gov.uk/government/publications/greenhouse-gas-reporting-conversion-factors-2025 | K17: 2025 | R17: Development diesel | S17: Butane | U17: HFC-43-I0mee | Z17: Collected and purified water, distribution services of water | AB17: Electricity by biomass and waste | AD17: Paper for treatment: landfill | BJ17: Upstream leased assets | BK17: =SUMIF(AZ:AZ,BJ17,BA:BA) -> 0 | BM17: Upstream leased assets | BN17: 0
B18: Biodiesel ME (from tallow) | C18: 0.18822 | D18: kg CO2e | E18: kg | F18: Scope 1 | G18: Mobile_combustion & Stationary_combustion | H18: United Kingdom | I18: UK GOV | J18: https://www.gov.uk/government/publications/greenhouse-gas-reporting-conversion-factors-2025 | K18: 2025 | R18: Development petrol | S18: CNG | U18: Perfluoromethane (PFC-14) | Z18: Computer and related services | AB18: Electricity by solar photovoltaic | AD18: Plastic waste for treatment: landfill | BJ18: Downstream transportation and distribution | BK18: =SUMIF(AZ:AZ,BJ18,BA:BA) -> 0 | BM18: Downstream transportation and distribution | BN18: 0
B19: Biodiesel ME (from used cooking oil) | C19: 0.18822 | D19: kg CO2e | E19: kg | F19: Scope 1 | G19: Mobile_combustion & Stationary_combustion | H19: United Kingdom | I19: UK GOV | J19: https://www.gov.uk/government/publications/greenhouse-gas-reporting-conversion-factors-2025 | K19: 2025 | R19: Diesel (100% mineral diesel) | S19: Charcoal | U19: Perfluoroethane (PFC-116) | Z19: Construction work | AB19: Electricity by solar thermal | AD19: Inert/metal/hazardous waste for treatment: landfill | BJ19: Processing of sold products | BK19: =SUMIF(AZ:AZ,BJ19,BA:BA) -> 0 | BM19: Processing of sold products | BN19: 0
B20: Biodiesels | C20: 0.32137189 | D20: Kg Co2e | E20: € | F20: Scope 1 | G20: Mobile_combustion & Stationary_combustion | H20: Germany | I20: Exiobase | J20: https://zenodo.org/records/5589597 | K20: 2022 | R20: Diesel (average biofuel blend) | S20: Coal (domestic) | U20: Perfluoropropane (PFC-218) | Z20: Copper ores and concentrates | AB20: Electricity by tide, wave, ocean | AD20: Textiles waste for treatment: landfill | BJ20: Use of sold products | BK20: =SUMIF(AZ:AZ,BJ20,BA:BA) -> 0 | BM20: Use of sold products | BN20: 0
B21: Bioethanol | C21: 0.01135 | D21: kg CO2e | E21: kg | F21: Scope 1 & 3 | G21: _3.1_Purchased_goods_and_services & Mobile_combustion & Stationary_combustion | H21: United Kingdom | I21: UK GOV | J21: https://www.gov.uk/government/publications/greenhouse-gas-reporting-conversion-factors-2025 | K21: 2025 | R21: Ethane | S21: Coal (electricity generation - home produced coal only) | U21: Perfluorocyclobutane (PFC-318) | Z21: Copper products | AB21: Electricity by Geothermal | AD21: Wood waste for treatment: landfill | BJ21: End-of-life treatment of sold products | BK21: =SUMIF(AZ:AZ,BJ21,BA:BA) -> 0 | BM21: End-of-life treatment of sold products | BN21: 0
B22: Biogas | C22: 0.54193751 | D22: Kg Co2e | E22: € | F22: Scope 1 | G22: Stationary_combustion | H22: Germany | I22: Exiobase | J22: https://zenodo.org/records/5589597 | K22: 2022 | R22: Gas/Diesel Oil | S22: Coal (electricity generation) | U22: Perfluorobutane (PFC-3-1-10) | Z22: Crops nec | AB22: Electricity nec | AD22: Secondary plastic for treatment, Re-processing of secondary plastic into new plastic | BJ22: Downstream leased assets | BK22: =SUMIF(AZ:AZ,BJ22,BA:BA) -> 0 | BM22: Downstream leased assets | BN22: 0
B23: Biogas | C23: 1.24314 | D23: kg CO2e | E23: ton | F23: Scope 1 | G23: Stationary_combustion | H23: United Kingdom | I23: UK GOV | J23: https://www.gov.uk/government/publications/greenhouse-gas-reporting-conversion-factors-2025 | K23: 2025 | R23: Gasoline Type Jet Fuel | S23: Coal (industrial) | U23: Perfluoropentane (PFC-4-1-12) | Z23: Dairy products | AD23: Secondary paper for treatment, Re-processing of secondary paper into new pulp | BJ23: Franchises | BK23: =SUMIF(AZ:AZ,BJ23,BA:BA) -> 0 | BM23: Franchises | BN23: 0
B24: Biogasoline | C24: 0.32221514 | D24: Kg Co2e | E24: € | F24: Scope 1 | G24: Mobile_combustion & Stationary_combustion | H24: Germany | I24: Exiobase | J24: https://zenodo.org/records/5589597 | K24: 2022 | R24: Kerosene | S24: Coke Oven Coke | U24: Perfluorohexane (PFC-5-1-14) | Z24: Education services | AD24: Secondary glass for treatment, Re-processing of secondary glass into new glass | BJ24: Investments | BK24: =SUMIF(AZ:AZ,BJ24,BA:BA) -> 0 | BM24: Investments | BN24: 0
B25: Biomethane (compressed) | C25: 0.00521 | D25: kg CO2e | E25: kg | F25: Scope 1 | G25: Mobile_combustion & Stationary_combustion | H25: United Kingdom | I25: UK GOV | J25: https://www.gov.uk/government/publications/greenhouse-gas-reporting-conversion-factors-2025 | K25: 2025 | R25: Kerosene Type Jet Fuel | S25: Coke oven gas | U25: PFC-9-1-18 | Z25: Electrical machinery and apparatus n.e.c. | AD25: Secondary steel for treatment, Re-processing of secondary steel into new steel
B26: Biomethane (liquified) | C26: 0.00521 | D26: kg CO2e | E26: kg | F26: Scope 1 | G26: Mobile_combustion & Stationary_combustion | H26: United Kingdom | I26: UK GOV | J26: https://www.gov.uk/government/publications/greenhouse-gas-reporting-conversion-factors-2025 | K26: 2025 | R26: LNG | S26: Coking Coal | U26: Perfluorocyclopropane | Z26: Extra-territorial organizations and bodies | AD26: Secondary preciuos metals for treatment, Re-processing of secondary preciuos metals into new preciuos metals
B27: Biopropane | C27: 0.00415 | D27: kg CO2e | E27: kg | F27: Scope 1 | G27: Mobile_combustion & Stationary_combustion | H27: United Kingdom | I27: UK GOV | J27: https://www.gov.uk/government/publications/greenhouse-gas-reporting-conversion-factors-2025 | K27: 2025 | R27: LPG | S27: Coking coal | U27: Sulphur hexafluoride (SF6) | Z27: Fabricated metal products, except machinery and equipment | AD27: Secondary aluminium for treatment, Re-processing of secondary aluminium into new aluminium
B28: Bitumen | C28: 0.21904468 | D28: Kg Co2e | E28: € | F28: Scope 1 | G28: Stationary_combustion | H28: Germany | I28: Exiobase | J28: https://zenodo.org/records/5589597 | K28: 2022 | R28: Liquefied Petroleum Gases (LPG) | S28: Development diesel | U28: HFC-152 | Z28: Financial intermediation services, except insurance and pension funding services | AD28: Secondary lead for treatment, Re-processing of secondary lead into new lead
B29: BKB/Peat Briquettes | C29: 1.6008787 | D29: Kg Co2e | E29: € | F29: Scope 1 | G29: Stationary_combustion | H29: Germany | I29: Exiobase | J29: https://zenodo.org/records/5589597 | K29: 2022 | R29: Marine fuel oil | S29: Development petrol | U29: HFC-161 | Z29: Fish and other fishing products; services incidental of fishing | AD29: Secondary copper for treatment, Re-processing of secondary copper into new copper
B30: Blast Furnace Gas | C30: 0.56029167 | D30: Kg Co2e | E30: € | F30: Scope 1 | G30: Stationary_combustion | H30: Germany | I30: Exiobase | J30: https://zenodo.org/records/5589597 | K30: 2022 | R30: Marine gas oil | S30: Diesel (100% mineral diesel) | U30: HFC-236cb | Z30: Fish products | AD30: Secondary other non-ferrous metals for treatment, Re-processing of secondary other non-ferrous metals into new other non-ferrous metals
B31: Bottles for treatment, Recycling of bottles by direct reuse | C31: 0 | D31: Kg Co2e | E31: € | F31: Scope 3 | G31: _3.5_Waste_generated_in_operations | H31: Germany | I31: Exiobase | J31: https://zenodo.org/records/5589597 | K31: 2022 | R31: Methanol (bio) | S31: Diesel (average biofuel blend) | U31: HFC-236ea | Z31: Food products nec | AD31: Ash for treatment, Re-processing of ash into clinker
B32: Bricks, tiles and construction products, in baked clay | C32: 0.34169414 | D32: Kg Co2e | E32: € | F32: Scope 3 | G32: _3.1_Purchased_goods_and_services | H32: Germany | I32: Exiobase | J32: https://zenodo.org/records/5589597 | K32: 2022 | R32: Motor Gasoline | S32: Ethane | U32: HFC-245ca | Z32: Foundry work services | AD32: Bottles for treatment, Recycling of bottles by direct reuse
B33: Burning oil | C33: 3165.0418 | D33: kg CO2e | E33: ton | F33: Scope 1 & 3 | G33: _3.1_Purchased_goods_and_services & Mobile_combustion & Stationary_combustion | H33: United Kingdom | I33: UK GOV | J33: https://www.gov.uk/government/publications/greenhouse-gas-reporting-conversion-factors-2025 | K33: 2025 | R33: Naphtha | S33: Food waste for treatment: biogasification and land application | U33: HFC-365mfc | Z33: Fuel oil | AD33: Secondary construction material for treatment, Re-processing of secondary construction material into aggregates
B34: Butane | C34: 3033.3807 | D34: kg CO2e | E34: ton | F34: Scope 1 | G34: Mobile_combustion & Stationary_combustion | H34: United Kingdom | I34: UK GOV | J34: https://www.gov.uk/government/publications/greenhouse-gas-reporting-conversion-factors-2025 | K34: 2025 | R34: Off road biodiesel | S34: Gas Coke | U34: Nitrogen trifluoride | Z34: Furniture; other manufactured goods n.e.c. | AD34: Wood material for treatment, Re-processing of secondary wood material into new wood material
B35: Cattle | C35: 4.9815233 | D35: Kg Co2e | E35: € | F35: Scope 3 | G35: _3.1_Purchased_goods_and_services | H35: Germany | I35: Exiobase | J35: https://zenodo.org/records/5589597 | K35: 2022 | R35: Petrol (100% mineral petrol) | S35: Gas Works Gas | U35: R401A | Z35: Glass and glass products
B36: Cement, lime and plaster | C36: 0.98333275 | D36: Kg Co2e | E36: € | F36: Scope 3 | G36: _3.1_Purchased_goods_and_services | H36: Germany | I36: Exiobase | J36: https://zenodo.org/records/5589597 | K36: 2022 | R36: Petrol (average biofuel blend) | S36: Gas oil | U36: R401B | Z36: Health and social work services
B37: Ceramic goods | C37: 0.16281825 | D37: Kg Co2e | E37: € | F37: Scope 3 | G37: _3.1_Purchased_goods_and_services | H37: Germany | I37: Exiobase | J37: https://zenodo.org/records/5589597 | K37: 2022 | R37: Propane | S37: Gas/Diesel Oil | U37: R401C | Z37: Insurance and pension funding services, except compulsory social security services
B38: Cereal grains nec | C38: 0.94124277 | D38: Kg Co2e | E38: € | F38: Scope 3 | G38: _3.1_Purchased_goods_and_services | H38: Germany | I38: Exiobase | J38: https://zenodo.org/records/5589597 | K38: 2022 | R38: Other Liquid Biofuels | S38: Grass/straw | U38: R402A | Z38: Iron ores
B39: Charcoal | C39: 0 | D39: Kg Co2e | E39: € | F39: Scope 1 | G39: Stationary_combustion | H39: Germany | I39: Exiobase | J39: https://zenodo.org/records/5589597 | K39: 2022 | R39: Burning oil | S39: Heavy Fuel Oil | U39: R402B | Z39: Lead, zinc and tin and products thereof
B40: Chemical and fertilizer minerals, salt and other mining and quarrying products n.e.c. | C40: 0.21206575 | D40: Kg Co2e | E40: € | F40: Scope 3 | G40: _3.1_Purchased_goods_and_services | H40: Germany | I40: Exiobase | J40: https://zenodo.org/records/5589597 | K40: 2022 | R40: Fuel oil | S40: Kerosene | U40: R403A | Z40: Lead, zinc and tin ores and concentrates
...
